BEGIN:VCALENDAR
METHOD:PUBLISH
VERSION:2.0
PRODID:-//hacksw/handcal//NONSGML v1.0//EN
BEGIN:VEVENT
DTSTAMP:20260418T140000
DTSTART:20260418T140000
DTEND:20260418T144500
SUMMARY:Inspection
LOCATION:9 Raglan Street Daylesford VIC 3460
DESCRIPTION:
UID:076a9ece-4bfb-40e9-9a16-1c1d6083e216@enlivenai.com.au
END:VEVENT
END:VCALENDAR
