BEGIN:VCALENDAR
METHOD:PUBLISH
VERSION:2.0
PRODID:-//hacksw/handcal//NONSGML v1.0//EN
BEGIN:VEVENT
DTSTAMP:20260131T100000
DTSTART:20260131T100000
DTEND:20260131T103000
SUMMARY:Inspection
LOCATION:5 Tay  Avenue Caloundra QLD 4551
DESCRIPTION:
UID:96c9eb8e-e99c-4c89-abc5-c8021dfa25ab@enlivenai.com.au
END:VEVENT
END:VCALENDAR
