BEGIN:VCALENDAR
METHOD:PUBLISH
VERSION:2.0
PRODID:-//hacksw/handcal//NONSGML v1.0//EN
BEGIN:VEVENT
DTSTAMP:20260423T173000
DTSTART:20260423T173000
DTEND:20260423T180000
SUMMARY:Inspection
LOCATION:130 Honeywood Avenue Wandi WA 6167
DESCRIPTION:
UID:bedc47e4-7c0f-4858-8cd5-95ffa931109b@enlivenai.com.au
END:VEVENT
END:VCALENDAR
