BEGIN:VCALENDAR
METHOD:PUBLISH
VERSION:2.0
PRODID:-//hacksw/handcal//NONSGML v1.0//EN
BEGIN:VEVENT
DTSTAMP:20260424T113000
DTSTART:20260424T113000
DTEND:20260424T120000
SUMMARY:Inspection
LOCATION:65 Bowen Street Warragul VIC 3820
DESCRIPTION:
UID:631587b3-fae5-4f18-a574-93465ab8358d@enlivenai.com.au
END:VEVENT
END:VCALENDAR
