BEGIN:VCALENDAR
METHOD:PUBLISH
VERSION:2.0
PRODID:-//hacksw/handcal//NONSGML v1.0//EN
BEGIN:VEVENT
DTSTAMP:20260502T120000
DTSTART:20260502T120000
DTEND:20260502T123000
SUMMARY:Inspection
LOCATION:25 Park Road St Leonards NSW 2065
DESCRIPTION:
UID:5372c97a-88c6-48ce-a118-9dceca9413a7@enlivenai.com.au
END:VEVENT
END:VCALENDAR
