BEGIN:VCALENDAR
METHOD:PUBLISH
VERSION:2.0
PRODID:-//hacksw/handcal//NONSGML v1.0//EN
BEGIN:VEVENT
DTSTAMP:20260502T110000
DTSTART:20260502T110000
DTEND:20260502T113000
SUMMARY:Inspection
LOCATION:1/11 Gardiner Street Berwick VIC 3806
DESCRIPTION:
UID:b5b1ceec-9101-4a8b-8bfa-628554634856@enlivenai.com.au
END:VEVENT
END:VCALENDAR
