BEGIN:VCALENDAR
METHOD:PUBLISH
VERSION:2.0
PRODID:-//hacksw/handcal//NONSGML v1.0//EN
BEGIN:VEVENT
DTSTAMP:20260425T090000
DTSTART:20260425T090000
DTEND:20260425T092500
SUMMARY:Inspection
LOCATION:1/29 Bellevue Parade North Curl Curl NSW 2099
DESCRIPTION:
UID:045dd739-11a5-4ba1-befc-d2becf0fcb07@enlivenai.com.au
END:VEVENT
END:VCALENDAR
