BEGIN:VCALENDAR
METHOD:PUBLISH
VERSION:2.0
PRODID:-//hacksw/handcal//NONSGML v1.0//EN
BEGIN:VEVENT
DTSTAMP:20260422T093000
DTSTART:20260422T093000
DTEND:20260422T094500
SUMMARY:Inspection
LOCATION:1/29 Bellevue Parade North Curl Curl NSW 2099
DESCRIPTION:
UID:a5d9646b-def0-4aeb-b27a-859ed5d13701@enlivenai.com.au
END:VEVENT
END:VCALENDAR
