BEGIN:VCALENDAR
METHOD:PUBLISH
VERSION:2.0
PRODID:-//hacksw/handcal//NONSGML v1.0//EN
BEGIN:VEVENT
DTSTAMP:20260422T100000
DTSTART:20260422T100000
DTEND:20260422T103000
SUMMARY:Inspection
LOCATION:12 Mirrabooka Street Bilgola Plateau NSW 2107
DESCRIPTION:
UID:3cb52f1c-825d-47c5-8c16-b3d1404825ae@enlivenai.com.au
END:VEVENT
END:VCALENDAR
