BEGIN:VCALENDAR
METHOD:PUBLISH
VERSION:2.0
PRODID:-//hacksw/handcal//NONSGML v1.0//EN
BEGIN:VEVENT
DTSTAMP:20260429T110000
DTSTART:20260429T110000
DTEND:20260429T113000
SUMMARY:Inspection
LOCATION:68 Centennial Avenue Lane Cove NSW 2066
DESCRIPTION:
UID:a5691b4b-7521-442f-bf9d-7f566d12ae25@enlivenai.com.au
END:VEVENT
END:VCALENDAR
