BEGIN:VCALENDAR
METHOD:PUBLISH
VERSION:2.0
PRODID:-//hacksw/handcal//NONSGML v1.0//EN
BEGIN:VEVENT
DTSTAMP:20260428T190000
DTSTART:20260428T190000
DTEND:20260428T193000
SUMMARY:Inspection
LOCATION:14A Lindsay Street Burwood NSW 2134
DESCRIPTION:
UID:da2b1992-99e6-4fbc-9ba0-8450e36e71fd@enlivenai.com.au
END:VEVENT
END:VCALENDAR
