BEGIN:VCALENDAR
METHOD:PUBLISH
VERSION:2.0
PRODID:-//hacksw/handcal//NONSGML v1.0//EN
BEGIN:VEVENT
DTSTAMP:20260423T170000
DTSTART:20260423T170000
DTEND:20260423T171500
SUMMARY:Inspection
LOCATION:45 Jobs Gully Road Eaglehawk VIC 3556
DESCRIPTION:
UID:013a4144-5938-4be1-8969-4cf450b1a44c@enlivenai.com.au
END:VEVENT
END:VCALENDAR
