BEGIN:VCALENDAR
METHOD:PUBLISH
VERSION:2.0
PRODID:-//hacksw/handcal//NONSGML v1.0//EN
BEGIN:VEVENT
DTSTAMP:20260430T144500
DTSTART:20260430T144500
DTEND:20260430T151500
SUMMARY:Inspection
LOCATION:1/6 Allens Parade Bondi Junction NSW 2022
DESCRIPTION:
UID:539aa802-4b28-47b8-a3c6-3489328c0394@enlivenai.com.au
END:VEVENT
END:VCALENDAR
