BEGIN:VCALENDAR
METHOD:PUBLISH
VERSION:2.0
PRODID:-//hacksw/handcal//NONSGML v1.0//EN
BEGIN:VEVENT
DTSTAMP:20260426T131500
DTSTART:20260426T131500
DTEND:20260426T134500
SUMMARY:Inspection
LOCATION:10 Watson Avenue Dromana VIC 3936
DESCRIPTION:
UID:9fb078a3-0707-4d37-8258-628127f6ba29@enlivenai.com.au
END:VEVENT
END:VCALENDAR
