BEGIN:VCALENDAR
METHOD:PUBLISH
VERSION:2.0
PRODID:-//hacksw/handcal//NONSGML v1.0//EN
BEGIN:VEVENT
DTSTAMP:20260423T111500
DTSTART:20260423T111500
DTEND:20260423T114500
SUMMARY:Inspection
LOCATION:906/80 Ebley Street Bondi Junction NSW 2022
DESCRIPTION:
UID:0b7259a8-df78-4c88-965a-f17511691213@enlivenai.com.au
END:VEVENT
END:VCALENDAR
