BEGIN:VCALENDAR
METHOD:PUBLISH
VERSION:2.0
PRODID:-//hacksw/handcal//NONSGML v1.0//EN
BEGIN:VEVENT
DTSTAMP:20260426T120000
DTSTART:20260426T120000
DTEND:20260426T122500
SUMMARY:Inspection
LOCATION:7/38-40 Veterans Parade Wheeler Heights NSW 2097
DESCRIPTION:
UID:77e1534d-b58c-49b1-bfbe-aeaec51053cc@enlivenai.com.au
END:VEVENT
END:VCALENDAR
