BEGIN:VCALENDAR
METHOD:PUBLISH
VERSION:2.0
PRODID:-//hacksw/handcal//NONSGML v1.0//EN
BEGIN:VEVENT
DTSTAMP:20260423T114500
DTSTART:20260423T114500
DTEND:20260423T121500
SUMMARY:Inspection
LOCATION:7/205 Beach Street Coogee NSW 2034
DESCRIPTION:
UID:2c39d506-ca7b-4950-afdd-0a9ea986e98b@enlivenai.com.au
END:VEVENT
END:VCALENDAR
