BEGIN:VCALENDAR
METHOD:PUBLISH
VERSION:2.0
PRODID:-//hacksw/handcal//NONSGML v1.0//EN
BEGIN:VEVENT
DTSTAMP:20260423T103000
DTSTART:20260423T103000
DTEND:20260423T110000
SUMMARY:Inspection
LOCATION:10/13-15 Langlee Avenue Waverley NSW 2024
DESCRIPTION:
UID:31723628-7ff9-4e64-9b5e-1478f7d1822b@enlivenai.com.au
END:VEVENT
END:VCALENDAR
