BEGIN:VCALENDAR
METHOD:PUBLISH
VERSION:2.0
PRODID:-//hacksw/handcal//NONSGML v1.0//EN
BEGIN:VEVENT
DTSTAMP:20260429T171500
DTSTART:20260429T171500
DTEND:20260429T173000
SUMMARY:Inspection
LOCATION:56 Adam Street Richmond VIC 3121
DESCRIPTION:
UID:076fd426-fbe7-4d27-a55e-1b4d55d6e9f7@enlivenai.com.au
END:VEVENT
END:VCALENDAR
