BEGIN:VCALENDAR
METHOD:PUBLISH
VERSION:2.0
PRODID:-//hacksw/handcal//NONSGML v1.0//EN
BEGIN:VEVENT
DTSTAMP:20260429T154500
DTSTART:20260429T154500
DTEND:20260429T160000
SUMMARY:Inspection
LOCATION:2608/472 Pacific Highway St Leonards NSW 2065
DESCRIPTION:
UID:5c8b1322-3f90-4763-9435-e8e73749c6f0@enlivenai.com.au
END:VEVENT
END:VCALENDAR
