BEGIN:VCALENDAR
METHOD:PUBLISH
VERSION:2.0
PRODID:-//hacksw/handcal//NONSGML v1.0//EN
BEGIN:VEVENT
DTSTAMP:20260502T113000
DTSTART:20260502T113000
DTEND:20260502T120000
SUMMARY:Inspection
LOCATION:2/102 Elliott Street Balmain NSW 2041
DESCRIPTION:
UID:074f5bfd-b871-4283-bdf9-f97d52b12d4d@enlivenai.com.au
END:VEVENT
END:VCALENDAR
