BEGIN:VCALENDAR
METHOD:PUBLISH
VERSION:2.0
PRODID:-//hacksw/handcal//NONSGML v1.0//EN
BEGIN:VEVENT
DTSTAMP:20260429T113000
DTSTART:20260429T113000
DTEND:20260429T120000
SUMMARY:Inspection
LOCATION:2/102 Elliott Street Balmain NSW 2041
DESCRIPTION:
UID:b4ad5e6e-693e-497d-82c5-007f668c6729@enlivenai.com.au
END:VEVENT
END:VCALENDAR
