BEGIN:VCALENDAR
METHOD:PUBLISH
VERSION:2.0
PRODID:-//hacksw/handcal//NONSGML v1.0//EN
BEGIN:VEVENT
DTSTAMP:20260423T174500
DTSTART:20260423T174500
DTEND:20260423T180000
SUMMARY:Inspection
LOCATION:18/274 Stacey Street Bankstown NSW 2200
DESCRIPTION:
UID:0affa90e-0754-4d6d-8277-491bf8c43744@enlivenai.com.au
END:VEVENT
END:VCALENDAR
