BEGIN:VCALENDAR
METHOD:PUBLISH
VERSION:2.0
PRODID:-//hacksw/handcal//NONSGML v1.0//EN
BEGIN:VEVENT
DTSTAMP:20260424T174500
DTSTART:20260424T174500
DTEND:20260424T180000
SUMMARY:Inspection
LOCATION:3/19 Church Street Ashfield NSW 2131
DESCRIPTION:
UID:e13a10fa-60e9-47de-b8be-103d4f713b6d@enlivenai.com.au
END:VEVENT
END:VCALENDAR
