BEGIN:VCALENDAR
METHOD:PUBLISH
VERSION:2.0
PRODID:-//hacksw/handcal//NONSGML v1.0//EN
BEGIN:VEVENT
DTSTAMP:20260422T173000
DTSTART:20260422T173000
DTEND:20260422T180000
SUMMARY:Inspection
LOCATION:4/55 Seston  Street Reservoir VIC 3073
DESCRIPTION:
UID:82683b89-e215-4e80-a5cc-77d257c08a42@enlivenai.com.au
END:VEVENT
END:VCALENDAR
