BEGIN:VCALENDAR
METHOD:PUBLISH
VERSION:2.0
PRODID:-//hacksw/handcal//NONSGML v1.0//EN
BEGIN:VEVENT
DTSTAMP:20260424T143000
DTSTART:20260424T143000
DTEND:20260424T150000
SUMMARY:Inspection
LOCATION:28 Sellers Avenue Rutherford NSW 2320
DESCRIPTION:
UID:bae65bc1-21e5-4c57-8f75-97079a41d443@enlivenai.com.au
END:VEVENT
END:VCALENDAR
