BEGIN:VCALENDAR
METHOD:PUBLISH
VERSION:2.0
PRODID:-//hacksw/handcal//NONSGML v1.0//EN
BEGIN:VEVENT
DTSTAMP:20260502T091500
DTSTART:20260502T091500
DTEND:20260502T094500
SUMMARY:Inspection
LOCATION:3/42-44 Myrtle Street North Sydney NSW 2060
DESCRIPTION:
UID:2e3e8eb4-b114-4272-8357-01ab49ed7647@enlivenai.com.au
END:VEVENT
END:VCALENDAR
