BEGIN:VCALENDAR
METHOD:PUBLISH
VERSION:2.0
PRODID:-//hacksw/handcal//NONSGML v1.0//EN
BEGIN:VEVENT
DTSTAMP:20260424T133000
DTSTART:20260424T133000
DTEND:20260424T135500
SUMMARY:Inspection
LOCATION:206/11 Mooramba Road Dee Why NSW 2099
DESCRIPTION:
UID:81d0ab1b-b332-4f8e-b7b0-59ffc96fe7c1@enlivenai.com.au
END:VEVENT
END:VCALENDAR
