BEGIN:VCALENDAR
METHOD:PUBLISH
VERSION:2.0
PRODID:-//hacksw/handcal//NONSGML v1.0//EN
BEGIN:VEVENT
DTSTAMP:20260424T124000
DTSTART:20260424T124000
DTEND:20260424T130000
SUMMARY:Inspection
LOCATION:25/168 Goulburn Street Surry Hills NSW 2010
DESCRIPTION:
UID:7c899f07-3490-4d2e-b3aa-703242e1f98f@enlivenai.com.au
END:VEVENT
END:VCALENDAR
