BEGIN:VCALENDAR
METHOD:PUBLISH
VERSION:2.0
PRODID:-//hacksw/handcal//NONSGML v1.0//EN
BEGIN:VEVENT
DTSTAMP:20260426T104500
DTSTART:20260426T104500
DTEND:20260426T111500
SUMMARY:Inspection
LOCATION:30/380 Toorak Road South Yarra VIC 3141
DESCRIPTION:
UID:e01d54ca-09b7-4991-8f2e-3e982037b3f1@enlivenai.com.au
END:VEVENT
END:VCALENDAR
