BEGIN:VCALENDAR
METHOD:PUBLISH
VERSION:2.0
PRODID:-//hacksw/handcal//NONSGML v1.0//EN
BEGIN:VEVENT
DTSTAMP:20260507T120000
DTSTART:20260507T120000
DTEND:20260507T123000
SUMMARY:Inspection
LOCATION:505/2 Regent Street Petersham NSW 2049
DESCRIPTION:
UID:87832ec0-5a99-479a-9707-5964e2c0c010@enlivenai.com.au
END:VEVENT
END:VCALENDAR
