BEGIN:VCALENDAR
METHOD:PUBLISH
VERSION:2.0
PRODID:-//hacksw/handcal//NONSGML v1.0//EN
BEGIN:VEVENT
DTSTAMP:20260502T140000
DTSTART:20260502T140000
DTEND:20260502T143000
SUMMARY:Inspection
LOCATION:505/2 Regent Street Petersham NSW 2049
DESCRIPTION:
UID:e2b54282-4ee4-47ba-b9d0-5b34722f5f8c@enlivenai.com.au
END:VEVENT
END:VCALENDAR
