BEGIN:VCALENDAR
METHOD:PUBLISH
VERSION:2.0
PRODID:-//hacksw/handcal//NONSGML v1.0//EN
BEGIN:VEVENT
DTSTAMP:20260425T120000
DTSTART:20260425T120000
DTEND:20260425T123000
SUMMARY:Inspection
LOCATION:33 Victoria Street Redcliffe WA 6104
DESCRIPTION:
UID:ab6b705e-267d-4e07-a359-499e1aecd25a@enlivenai.com.au
END:VEVENT
END:VCALENDAR
