BEGIN:VCALENDAR
METHOD:PUBLISH
VERSION:2.0
PRODID:-//hacksw/handcal//NONSGML v1.0//EN
BEGIN:VEVENT
DTSTAMP:20260423T110000
DTSTART:20260423T110000
DTEND:20260423T113000
SUMMARY:Inspection
LOCATION:1418/555 St Kilda Road Melbourne VIC 3004
DESCRIPTION:
UID:92c9453b-2998-45ec-9c06-c00302c9c2ec@enlivenai.com.au
END:VEVENT
END:VCALENDAR
