BEGIN:VCALENDAR
METHOD:PUBLISH
VERSION:2.0
PRODID:-//hacksw/handcal//NONSGML v1.0//EN
BEGIN:VEVENT
DTSTAMP:20260506T120000
DTSTART:20260506T120000
DTEND:20260506T123000
SUMMARY:Inspection
LOCATION:32B/2 Brady Street Mosman NSW 2088
DESCRIPTION:
UID:68e10065-6bdb-463d-96cc-8cb45c476fd8@enlivenai.com.au
END:VEVENT
END:VCALENDAR
