BEGIN:VCALENDAR
METHOD:PUBLISH
VERSION:2.0
PRODID:-//hacksw/handcal//NONSGML v1.0//EN
BEGIN:VEVENT
DTSTAMP:20260429T120000
DTSTART:20260429T120000
DTEND:20260429T123000
SUMMARY:Inspection
LOCATION:32B/2 Brady Street Mosman NSW 2088
DESCRIPTION:
UID:40587ba5-98dc-4bb6-8f55-33dd7f02b5b5@enlivenai.com.au
END:VEVENT
END:VCALENDAR
