BEGIN:VCALENDAR
METHOD:PUBLISH
VERSION:2.0
PRODID:-//hacksw/handcal//NONSGML v1.0//EN
BEGIN:VEVENT
DTSTAMP:20260426T101500
DTSTART:20260426T101500
DTEND:20260426T104500
SUMMARY:Inspection
LOCATION:28 Ninth  Avenue Rosebud VIC 3939
DESCRIPTION:
UID:2d67df79-119c-476f-ac62-9e22a78bc2ae@enlivenai.com.au
END:VEVENT
END:VCALENDAR
