BEGIN:VCALENDAR
METHOD:PUBLISH
VERSION:2.0
PRODID:-//hacksw/handcal//NONSGML v1.0//EN
BEGIN:VEVENT
DTSTAMP:20260423T140000
DTSTART:20260423T140000
DTEND:20260423T143000
SUMMARY:Inspection
LOCATION:1004/5 Keats Avenue Rockdale NSW 2216
DESCRIPTION:
UID:788e3ae6-3b15-4275-92ff-0653027b5058@enlivenai.com.au
END:VEVENT
END:VCALENDAR
