BEGIN:VCALENDAR
METHOD:PUBLISH
VERSION:2.0
PRODID:-//hacksw/handcal//NONSGML v1.0//EN
BEGIN:VEVENT
DTSTAMP:20260423T163000
DTSTART:20260423T163000
DTEND:20260423T164500
SUMMARY:Inspection
LOCATION:304/10 Regent  Street Wollongong NSW 2500
DESCRIPTION:
UID:3a170be7-1b46-476f-8555-9a16314cfc25@enlivenai.com.au
END:VEVENT
END:VCALENDAR
