BEGIN:VCALENDAR
METHOD:PUBLISH
VERSION:2.0
PRODID:-//hacksw/handcal//NONSGML v1.0//EN
BEGIN:VEVENT
DTSTAMP:20260429T130000
DTSTART:20260429T130000
DTEND:20260429T133000
SUMMARY:Inspection
LOCATION:8-10 Linacre Road Hampton VIC 3188
DESCRIPTION:
UID:90755d53-52d0-4479-9c37-21a72826e166@enlivenai.com.au
END:VEVENT
END:VCALENDAR
