BEGIN:VCALENDAR
METHOD:PUBLISH
VERSION:2.0
PRODID:-//hacksw/handcal//NONSGML v1.0//EN
BEGIN:VEVENT
DTSTAMP:20260423T093000
DTSTART:20260423T093000
DTEND:20260423T100000
SUMMARY:Inspection
LOCATION:8-10 Linacre Road Hampton VIC 3188
DESCRIPTION:
UID:e1875a6f-013c-4fad-a83a-855cd7626d86@enlivenai.com.au
END:VEVENT
END:VCALENDAR
