BEGIN:VCALENDAR
METHOD:PUBLISH
VERSION:2.0
PRODID:-//hacksw/handcal//NONSGML v1.0//EN
BEGIN:VEVENT
DTSTAMP:20260423T190000
DTSTART:20260423T190000
DTEND:20260423T193000
SUMMARY:Inspection
LOCATION:161 Queen  Street Concord West NSW 2138
DESCRIPTION:
UID:a820a958-d496-4bf0-b9fd-1f49077164c3@enlivenai.com.au
END:VEVENT
END:VCALENDAR
