BEGIN:VCALENDAR
METHOD:PUBLISH
VERSION:2.0
PRODID:-//hacksw/handcal//NONSGML v1.0//EN
BEGIN:VEVENT
DTSTAMP:20260430T100000
DTSTART:20260430T100000
DTEND:20260430T103000
SUMMARY:Inspection
LOCATION:5/120 Addison Road Manly NSW 2095
DESCRIPTION:
UID:7ec7c9a6-a400-485a-a4c3-38fc7d7c1bac@enlivenai.com.au
END:VEVENT
END:VCALENDAR
