BEGIN:VCALENDAR
METHOD:PUBLISH
VERSION:2.0
PRODID:-//hacksw/handcal//NONSGML v1.0//EN
BEGIN:VEVENT
DTSTAMP:20260423T100000
DTSTART:20260423T100000
DTEND:20260423T103000
SUMMARY:Inspection
LOCATION:5/120 Addison Road Manly NSW 2095
DESCRIPTION:
UID:fcfb06bb-82de-4c56-b134-1aebc0646064@enlivenai.com.au
END:VEVENT
END:VCALENDAR
