BEGIN:VCALENDAR
METHOD:PUBLISH
VERSION:2.0
PRODID:-//hacksw/handcal//NONSGML v1.0//EN
BEGIN:VEVENT
DTSTAMP:20260427T150000
DTSTART:20260427T150000
DTEND:20260427T151500
SUMMARY:Inspection
LOCATION:304/22 Nicholson Street Fitzroy North VIC 3068
DESCRIPTION:
UID:4f04401d-b1d5-4b71-b9f9-9ddeae2b57ba@enlivenai.com.au
END:VEVENT
END:VCALENDAR
