BEGIN:VCALENDAR
METHOD:PUBLISH
VERSION:2.0
PRODID:-//hacksw/handcal//NONSGML v1.0//EN
BEGIN:VEVENT
DTSTAMP:20260430T120000
DTSTART:20260430T120000
DTEND:20260430T123000
SUMMARY:Inspection
LOCATION:506/57 Stables Circuit Doncaster VIC 3108
DESCRIPTION:
UID:ff337552-7365-4e9b-a2ad-4ed657084260@enlivenai.com.au
END:VEVENT
END:VCALENDAR
