BEGIN:VCALENDAR
METHOD:PUBLISH
VERSION:2.0
PRODID:-//hacksw/handcal//NONSGML v1.0//EN
BEGIN:VEVENT
DTSTAMP:20260429T103000
DTSTART:20260429T103000
DTEND:20260429T110000
SUMMARY:Inspection
LOCATION:3 Mary Street Longueville NSW 2066
DESCRIPTION:
UID:f10b2aa4-0e47-4083-9671-074f69c0d731@enlivenai.com.au
END:VEVENT
END:VCALENDAR
