BEGIN:VCALENDAR
METHOD:PUBLISH
VERSION:2.0
PRODID:-//hacksw/handcal//NONSGML v1.0//EN
BEGIN:VEVENT
DTSTAMP:20260422T103000
DTSTART:20260422T103000
DTEND:20260422T110000
SUMMARY:Inspection
LOCATION:3 Mary Street Longueville NSW 2066
DESCRIPTION:
UID:5c2d5606-eff7-4334-92ac-5c5acd11fe83@enlivenai.com.au
END:VEVENT
END:VCALENDAR
