BEGIN:VCALENDAR
METHOD:PUBLISH
VERSION:2.0
PRODID:-//hacksw/handcal//NONSGML v1.0//EN
BEGIN:VEVENT
DTSTAMP:20260425T133000
DTSTART:20260425T133000
DTEND:20260425T140000
SUMMARY:Inspection
LOCATION:11 Clydesdale Drive Vasse WA 6280
DESCRIPTION:
UID:ae24f4a5-5d3f-4cef-b6bb-d0720153195f@enlivenai.com.au
END:VEVENT
END:VCALENDAR
