BEGIN:VCALENDAR
METHOD:PUBLISH
VERSION:2.0
PRODID:-//hacksw/handcal//NONSGML v1.0//EN
BEGIN:VEVENT
DTSTAMP:20260430T160000
DTSTART:20260430T160000
DTEND:20260430T163000
SUMMARY:Inspection
LOCATION:138 Gracemere Street Grange QLD 4051
DESCRIPTION:
UID:f205d4ca-fa64-4dfd-8d01-67b05f125e8c@enlivenai.com.au
END:VEVENT
END:VCALENDAR
